{"text_format":"3","workbook":"xlsx","n_sheets":3,"sheets":["Sheet1","Sheet2","Sheet3"],"not_rendered":{"external_links":1},"read":"whole","date_system":"1900"}

{"sheet":"Sheet1","index":0,"n_rows":35,"n_cols":8,"rows_kept":35}
["类型","选课序号","课程名称","教师","学号","姓名","教室","上课时间"]
[{"$f":"[1]汇总表格!D4","v":"本科生"},{"$f":"[1]汇总表格!E4","v":"ECON120001.03"},{"$f":"[1]汇总表格!F4","v":"政治经济学"},{"$f":"[1]汇总表格!H4","v":"严法善"},{"$f":"[1]汇总表格!J4","v":"13210680001"},{"$f":"[1]汇总表格!K4","v":"李世彦"},{"$f":"[1]汇总表格!O4","v":"H4101"},{"$f":"[1]汇总表格!P4","v":"四 2-4"}]
[{"$f":"[1]汇总表格!D5","v":"本科生"},{"$f":"[1]汇总表格!E5","v":"ECON120001.04"},{"$f":"[1]汇总表格!F5","v":"政治经济学"},{"$f":"[1]汇总表格!H5","v":"周翼"},{"$f":"[1]汇总表格!J5","v":"12210680006"},{"$f":"[1]汇总表格!K5","v":"柯嘉靖"},{"$f":"[1]汇总表格!O5","v":"H4401"},{"$f":"[1]汇总表格!P5","v":"四 2-4"}]
[{"$f":"[1]汇总表格!D6","v":"本科生"},{"$f":"[1]汇总表格!E6","v":"ECON120001.05"},{"$f":"[1]汇总表格!F6","v":"政治经济学"},{"$f":"[1]汇总表格!H6","v":"高帆"},{"$f":"[1]汇总表格!J6","v":"13210680007"},{"$f":"[1]汇总表格!K6","v":"薛凯迪"},{"$f":"[1]汇总表格!O6","v":"H4501"},{"$f":"[1]汇总表格!P6","v":"四 2-4"}]
[{"$f":"[1]汇总表格!D7","v":"本科生"},{"$f":"[1]汇总表格!E7","v":"ECON120003.01"},{"$f":"[1]汇总表格!F7","v":"宏观经济学A"},{"$f":"[1]汇总表格!H7","v":"袁志刚"},{"$f":"[1]汇总表格!J7","v":"13110680010"},{"$f":"[1]汇总表格!K7","v":"李宛聪"},{"$f":"[1]汇总表格!O7","v":"HGX103"},{"$f":"[1]汇总表格!P7","v":"三 6-8"}]
[{"$f":"[1]汇总表格!D8","v":"本科生"},{"$f":"[1]汇总表格!E8","v":"ECON120003.03"},{"$f":"[1]汇总表格!F8","v":"宏观经济学A"},{"$f":"[1]汇总表格!H8","v":"程向前"},{"$f":"[1]汇总表格!J8","v":"12210680021"},{"$f":"[1]汇总表格!K8","v":"王钊民"},{"$f":"[1]汇总表格!O8","v":"H6301"},{"$f":"[1]汇总表格!P8","v":"三 6-8"}]
[{"$f":"[1]汇总表格!D14","v":"本科生"},{"$f":"[1]汇总表格!E14","v":"ECON120015.03"},{"$f":"[1]汇总表格!F14","v":"会计学"},{"$f":"[1]汇总表格!H14","v":"徐晔"},{"$f":"[1]汇总表格!J14","v":"12210680286"},{"$f":"[1]汇总表格!K14","v":"尹伊"},{"$f":"[1]汇总表格!O14","v":"H5110"},{"$f":"[1]汇总表格!P14","v":"二 3-4 五 3-4"}]
[{"$f":"[1]汇总表格!D20","v":"本科生"},{"$f":"[1]汇总表格!E20","v":"ECON130004.02"},{"$f":"[1]汇总表格!F20","v":"国际贸易"},{"$f":"[1]汇总表格!H20","v":"胡涵钧"},{"$f":"[1]汇总表格!J20","v":"13210680093"},{"$f":"[1]汇总表格!K20","v":"赖雪文"},{"$f":"[1]汇总表格!O20","v":"H2113B"},{"$f":"[1]汇总表格!P20","v":"二 2-4"}]
[{"$f":"[1]汇总表格!D22","v":"本科生"},{"$f":"[1]汇总表格!E22","v":"ECON130006.02"},{"$f":"[1]汇总表格!F22","v":"计量经济学"},{"$f":"[1]汇总表格!H22","v":"朱宏飞"},{"$f":"[1]汇总表格!J22","v":"13210680004"},{"$f":"[1]汇总表格!K22","v":"邬成嘉"},{"$f":"[1]汇总表格!O22","v":"H6305"},{"$f":"[1]汇总表格!P22","v":"四 2-4"}]
[{"$f":"[1]汇总表格!D25","v":"本科生"},{"$f":"[1]汇总表格!E25","v":"ECON130007.02"},{"$f":"[1]汇总表格!F25","v":"货币银行学"},{"$f":"[1]汇总表格!H25","v":"沈国兵"},{"$f":"[1]汇总表格!J25","v":"13210680032"},{"$f":"[1]汇总表格!K25","v":"季德"},{"$f":"[1]汇总表格!O25","v":"H6205"},{"$f":"[1]汇总表格!P25","v":"三 2-4"}]
[{"$f":"[1]汇总表格!D32","v":"本科生"},{"$f":"[1]汇总表格!E32","v":"ECON130041.01"},{"$f":"[1]汇总表格!F32","v":"保险营销学"},{"$f":"[1]汇总表格!H32","v":"蔡晓月"},{"$f":"[1]汇总表格!J32","v":"12210680108"},{"$f":"[1]汇总表格!K32","v":"俞佳"},{"$f":"[1]汇总表格!O32","v":"H6204"},{"$f":"[1]汇总表格!P32","v":"五 2-4"}]
[{"$f":"[1]汇总表格!D33","v":"2010级数理经济学班"},{"$f":"[1]汇总表格!E33","v":"ECON130056.01"},{"$f":"[1]汇总表格!F33","v":"区域经济学"},{"$f":"[1]汇总表格!H33","v":"范剑勇"},{"$f":"[1]汇总表格!J33","v":"11110680028"},{"$f":"[1]汇总表格!K33","v":"冯猛"},{"$f":"[1]汇总表格!O33","v":"H6101"},{"$f":"[1]汇总表格!P33","v":"三 3-4"}]
[{"$f":"[1]汇总表格!D34","v":"本科生"},{"$f":"[1]汇总表格!E34","v":"ECON130057.01"},{"$f":"[1]汇总表格!F34","v":"农村和农业经济学"},{"$f":"[1]汇总表格!H34","v":"高帆"},{"$f":"[1]汇总表格!J34","v":"13210680022"},{"$f":"[1]汇总表格!K34","v":"鹿译文"},{"$f":"[1]汇总表格!O34","v":"H6204"},{"$f":"[1]汇总表格!P34","v":"三 3-4"}]
[{"$f":"[1]汇总表格!D37","v":"本科生"},{"$f":"[1]汇总表格!E37","v":"ECON130064.01"},{"$f":"[1]汇总表格!F37","v":"博弈论"},{"$f":"[1]汇总表格!H37","v":"朱弘鑫"},{"$f":"[1]汇总表格!J37","v":"11210680140"},{"$f":"[1]汇总表格!K37","v":"程宇腾"},{"$f":"[1]汇总表格!O37","v":"H6204"},{"$f":"[1]汇总表格!P37","v":"五 6-8"}]
[{"$f":"[1]汇总表格!D39","v":"本科生"},{"$f":"[1]汇总表格!E39","v":"ECON130083.01"},{"$f":"[1]汇总表格!F39","v":"时间序列分析的方法"},{"$f":"[1]汇总表格!H39","v":"孙立坚"},{"$f":"[1]汇总表格!J39","v":"10300680230"},{"$f":"[1]汇总表格!K39","v":"越婷婷"},{"$f":"[1]汇总表格!O39","v":"HGX302"},{"$f":"[1]汇总表格!P39","v":"一 2-4"}]
[{"$f":"[1]汇总表格!D49","v":"2010级数理经济学班"},{"$f":"[1]汇总表格!E49","v":"ECON130159.01"},{"$f":"[1]汇总表格!F49","v":"金融经济学原理"},{"$f":"[1]汇总表格!H49","v":"潘佳"},{"$f":"[1]汇总表格!J49","v":"13110680033"},{"$f":"[1]汇总表格!K49","v":"贾璐熙"}]
[{"$f":"[1]汇总表格!D52","v":"本科生"},{"$f":"[1]汇总表格!E52","v":"MATH120044.01"},{"$f":"[1]汇总表格!F52","v":"线性代数"},{"$f":"[1]汇总表格!H52","v":"朱弘鑫"},{"$f":"[1]汇总表格!J52","v":"13210680137"},{"$f":"[1]汇总表格!K52","v":"庞绪欣"},{"$f":"[1]汇总表格!O52","v":"H4103"},{"$f":"[1]汇总表格!P52","v":"三 1-2 五 1-2"}]
[{"$f":"[1]汇总表格!D58","v":"二专"},{"$f":"[1]汇总表格!E58","v":"968.023.1.01"},{"$f":"[1]汇总表格!F58","v":"货币经济学"},{"$f":"[1]汇总表格!H58","v":"田素华"},{"$f":"[1]汇总表格!J58","v":"12210680029"},{"$f":"[1]汇总表格!K58","v":"侯晨曦"},{"$f":"[1]汇总表格!O58","v":"H4104"},{"$f":"[1]汇总表格!P58","v":"四 11-13"}]
[{"$f":"[1]汇总表格!D60","v":"二专"},{"$f":"[1]汇总表格!E60","v":"968.029.1.01"},{"$f":"[1]汇总表格!F60","v":"统计学"},{"$f":"[1]汇总表格!H60","v":"李洁明"},{"$f":"[1]汇总表格!J60","v":"11110680027"},{"$f":"[1]汇总表格!K60","v":"张歌"},{"$f":"[1]汇总表格!O60","v":"H4101"},{"$f":"[1]汇总表格!P60","v":"四 11-13"}]
[{"$f":"[1]汇总表格!D61","v":"二专"},{"$f":"[1]汇总表格!E61","v":"968.033.1.01"},{"$f":"[1]汇总表格!F61","v":"概率论与数理统计"},{"$f":"[1]汇总表格!H61","v":"朱弘鑫"},{"$f":"[1]汇总表格!J61","v":"13210680240"},{"$f":"[1]汇总表格!K61","v":"袁源"},{"$f":"[1]汇总表格!O61","v":"H6107"},{"$f":"[1]汇总表格!P61","v":"三 11-13"}]
[{"$f":"[1]汇总表格!D64","v":"二专"},{"$f":"[1]汇总表格!E64","v":"968.036.1.01"},{"$f":"[1]汇总表格!F64","v":"国际经济学"},{"$f":"[1]汇总表格!H64","v":"蔡晓月"},{"$f":"[1]汇总表格!J64","v":"12210680009"},{"$f":"[1]汇总表格!K64","v":"陈迪"},{"$f":"[1]汇总表格!O64","v":"H4104"},{"$f":"[1]汇总表格!P64","v":"一 11-13"}]
[{"$f":"[1]汇总表格!D68","v":"通识"},{"$f":"[1]汇总表格!E68","v":"ECON110014.01"},{"$f":"[1]汇总表格!F68","v":"投资组合与家庭理财"},{"$f":"[1]汇总表格!H68","v":"程向前"},{"$f":"[1]汇总表格!J68","v":"12210680107"},{"$f":"[1]汇总表格!K68","v":"杨通旻"},{"$f":"[1]汇总表格!O68","v":"H6205"},{"$f":"[1]汇总表格!P68","v":"三 11-12"}]
[{"$f":"[1]汇总表格!D69","v":"通识"},{"$f":"[1]汇总表格!E69","v":"ECON110017.01"},{"$f":"[1]汇总表格!F69","v":"证券投资与技术分析"},{"$f":"[1]汇总表格!H69","v":"罗忠洲"},{"$f":"[1]汇总表格!J69","v":"13210680256"},{"$f":"[1]汇总表格!K69","v":"陈婉玲"},{"$f":"[1]汇总表格!O69","v":"H6105"},{"$f":"[1]汇总表格!P69","v":"一 11-12"}]
[{"$f":"[1]汇总表格!D74","v":"硕博班"},{"$f":"[1]汇总表格!E74","v":"ECON620043"},{"$f":"[1]汇总表格!F74","v":"计量经济学（二）"},{"$f":"[1]汇总表格!H74","v":"蒋碧波"},{"$f":"[1]汇总表格!J74","v":"13110680033"},{"$f":"[1]汇总表格!K74","v":"贾璐熙"},{"$f":"[1]汇总表格!O74","v":"H6102"},{"$f":"[1]汇总表格!P74","v":"二6，7，8"}]
[{"$f":"[1]汇总表格!D75","v":"基金课程"},{"$f":"[1]汇总表格!E75","v":"ECON620061"},{"$f":"[1]汇总表格!F75","v":"证券投资分析"},{"$f":"[1]汇总表格!H75","v":"罗忠洲"},{"$f":"[1]汇总表格!J75","v":"11210680169"},{"$f":"[1]汇总表格!K75","v":"楼慧源"},{"$f":"[1]汇总表格!O75","v":"H4504"},{"$f":"[1]汇总表格!P75","v":"四-11-12"}]
[{"$f":"[1]汇总表格!D77","v":"硕博班"},{"$f":"[1]汇总表格!E77","v":"ECON620082"},{"$f":"[1]汇总表格!F77","v":"宏观经济分析（一）"},{"$f":"[1]汇总表格!H77","v":"胡煦"},{"$f":"[1]汇总表格!J77","v":"12210680047"},{"$f":"[1]汇总表格!K77","v":"宋潇"},{"$f":"[1]汇总表格!O77","v":"H2207"},{"$f":"[1]汇总表格!P77","v":"二2，3，4"}]
[{"$f":"[1]汇总表格!D78","v":"硕博班"},{"$f":"[1]汇总表格!E78","v":"ECON620085"},{"$f":"[1]汇总表格!F78","v":"数理经济学"},{"$f":"[1]汇总表格!H78","v":"潘佳、蒋碧波"},{"$f":"[1]汇总表格!J78","v":13110680048},{"$f":"[1]汇总表格!K78","v":"周强龙"},{"$f":"[1]汇总表格!O78","v":"H6210"},{"$f":"[1]汇总表格!P78","v":"四2，3，4"}]
[{"$f":"[1]汇总表格!D82","v":"硕博班"},{"$f":"[1]汇总表格!E82","v":"ECON630120"},{"$f":"[1]汇总表格!F82","v":"金融Ⅰ"},{"$f":"[1]汇总表格!H82","v":"齐倩茹"},{"$f":"[1]汇总表格!J82","v":"13110680022"},{"$f":"[1]汇总表格!K82","v":"吴杏"},{"$f":"[1]汇总表格!O82","v":"H5107"},{"$f":"[1]汇总表格!P82","v":"四3，4"}]
[{"$f":"[1]汇总表格!D88","v":"博士"},{"$f":"[1]汇总表格!E88","v":"ECON830036"},{"$f":"[1]汇总表格!F88","v":"公司组织和研究"},{"$f":"[1]汇总表格!H88","v":"齐倩茹"},{"$f":"[1]汇总表格!J88","v":"11110680047"},{"$f":"[1]汇总表格!K88","v":"米晋宏"},{"$f":"[1]汇总表格!O88","v":"H5208"},{"$f":"[1]汇总表格!P88","v":"三11，12"}]
[{"$f":"[1]汇总表格!D92","v":"跨校辅修"},null,{"$f":"[1]汇总表格!F92","v":"国际贸易"},{"$f":"[1]汇总表格!H92","v":"胡涵钧"},{"$f":"[1]汇总表格!J92","v":"12210680089"},{"$f":"[1]汇总表格!K92","v":"李金柳"},{"$f":"[1]汇总表格!O92","v":"H3308"},{"$f":"[1]汇总表格!P92","v":"周六8：30-11：00"}]
[{"$f":"[1]汇总表格!D95","v":"跨校辅修"},null,{"$f":"[1]汇总表格!F95","v":"会计学"},{"$f":"[1]汇总表格!H95","v":"徐晔"},{"$f":"[1]汇总表格!J95","v":"12210680285"},{"$f":"[1]汇总表格!K95","v":"杨丽莉"},{"$f":"[1]汇总表格!O95","v":"H3309"},{"$f":"[1]汇总表格!P95","v":"周六12：30-15：00"}]
[{"$f":"[1]汇总表格!D101","v":"二专"},{"$f":"[1]汇总表格!E101","v":"968.037.1.02"},{"$f":"[1]汇总表格!F101","v":"微观经济学"},{"$f":"[1]汇总表格!H101","v":"张涛"},{"$f":"[1]汇总表格!J101","v":"12210680125"},{"$f":"[1]汇总表格!K101","v":"刘婷"},{"$f":"[1]汇总表格!O101","v":"H4401"},{"$f":"[1]汇总表格!P101","v":"一 11-13"}]
[{"$f":"[1]汇总表格!D102","v":"通识"},{"$f":"[1]汇总表格!E102","v":"ECON120012.01"},{"$f":"[1]汇总表格!F102","v":"国际经济学"},{"$f":"[1]汇总表格!H102","v":"罗长远"},{"$f":"[1]汇总表格!J102","v":"10300680266"},{"$f":"[1]汇总表格!K102","v":"刘毓佳"},{"$f":"[1]汇总表格!O102","v":"H4203"},{"$f":"[1]汇总表格!P102","v":"二 11-12"}]
[{"$f":"[1]汇总表格!D103","v":"本科生"},{"$f":"[1]汇总表格!E103","v":"ECON130007.01"},{"$f":"[1]汇总表格!F103","v":"货币银行学"},{"$f":"[1]汇总表格!H103","v":"张涛"},{"$f":"[1]汇总表格!J103","v":"12210680009"},{"$f":"[1]汇总表格!K103","v":"陈迪"},{"$f":"[1]汇总表格!O103","v":"H6101"},{"$f":"[1]汇总表格!P103","v":"一 6-8"}]
[{"$f":"[1]汇总表格!D104","v":"硕士"},{"$f":"[1]汇总表格!E104","v":"ECON630094"},{"$f":"[1]汇总表格!F104","v":"当代中国经济研究"},{"$f":"[1]汇总表格!H104","v":"石磊"},{"$f":"[1]汇总表格!J104","v":"13110680043"},{"$f":"[1]汇总表格!K104","v":"王辉"},{"$f":"[1]汇总表格!O104","v":"H2103"},{"$f":"[1]汇总表格!P104","v":"四11，12"}]

{"sheet":"Sheet2","index":1,"n_rows":0,"n_cols":0,"rows_kept":0}

{"sheet":"Sheet3","index":2,"n_rows":0,"n_cols":0,"rows_kept":0}